BEGIN:VCALENDAR
VERSION:2.0
PRODID:icalendar-ruby
CALSCALE:GREGORIAN
METHOD:PUBLISH
BEGIN:VEVENT
DTSTAMP:20260419T175627Z
UID:22-316676@unionbaptist.tithelysetup2.com
DTSTART:20260531T220000Z
DTEND:20260605T004500Z
CLASS:PUBLIC
CREATED:20260331T212759
DESCRIPTION:We are excited to introduce UBC VBS &amp\; Sport's Camp this ye
 ar. Your child is invited to come and learn about Jesus through songs\, le
 ssons and skits\, while also learning skills about Baseball\, Basketball\,
  Football\, Softball\, or Volleyball. Not interested in sports? That's ok!
  We are also offering Art as an option.\nBe sure your child wears comforta
 ble tennis shoes and play clothes that can get messy. Your child should br
 ing a glove for baseball or softball.\nPlease plan to register early. You 
 won't want to miss this fun week. Also\, participants who are registered b
 y May 15\, 2026 will have their names entered into a raffle for a Rainfore
 st themed gift basket and a T-Shirt.\nPre-registration is not required\, b
 ut it helps us plan best for materials.
LAST-MODIFIED:20260331T212759
LOCATION:1101 W. Hwy 378 Hannah Pamplico\, SC 29583
SUMMARY:Vacation Bible School
URL;VALUE=URI:https://ubchannah.com/events/vacation-bible-school/2026-05-31
ATTACH;FILENAME=VBS-Banner-1500-x-784-px.png;FMTTYPE=image/png:https://dq5p
 wpg1q8ru0.cloudfront.net/2026/04/01/01/25/08/52cbdcc8-fc1a-4a79-9869-c944e
 9dfbfe2/VBS-Banner-1500-x-784-px.png
END:VEVENT
END:VCALENDAR
