BEGIN:VCALENDAR
VERSION:2.0
PRODID:icalendar-ruby
CALSCALE:GREGORIAN
METHOD:PUBLISH
BEGIN:VEVENT
DTSTAMP:20260422T225720Z
UID:9-340501@unionbaptist.tithelysetup2.com
DTSTART:20261101T150000Z
DTEND:20261101T154500Z
CLASS:PUBLIC
CREATED:20260422T173735
DESCRIPTION:Our Sunday School classes meet every Sunday morning from 10:00 
 a.m. to 11:00 a.m. at the church. We have classes for children and adults 
 of all ages. For our Sunday School offerings\, see our Sunday School page
 .
LAST-MODIFIED:20260422T173735
LOCATION:Union Baptist Church
SUMMARY:Sunday School
URL;VALUE=URI:https://ubchannah.com/events/sunday-school/2026-11-01
ATTACH;FILENAME=children-21.jpg;FMTTYPE=image/jpeg:https://dq5pwpg1q8ru0.cl
 oudfront.net/2025/12/07/19/11/19/ef8c42f9-4a2e-4cdc-bd48-66dc5434dba4/chil
 dren-21.jpg
END:VEVENT
END:VCALENDAR
